BEGIN:VCALENDAR
VERSION:2.0
PRODID:-//swoogo.com//NONSGML kigkonsult.se iCalcreator 2.41.90//
CALSCALE:GREGORIAN
UID:36653063-6263-4961-b836-323331333037
BEGIN:VEVENT
UID:03d47f586d1e357c21260248d251be8ea82a637a@swoogo.com
DTSTAMP:20260424T113444Z
DESCRIPTION:The Blue Mountain Summit stands as the only conference curated 
 specifically for EAM and CMMS professionals in the life sciences community
 \, offering unparalleled networking and educational opportunities across t
 he sector.
DTSTART:20260915T160000Z
DTEND:20260917T040000Z
LAST-MODIFIED:20260424T113444Z
LOCATION:The JB Duke Hotel\, 230 Science Dr.\, Durham\, NC 27708\, United S
 tates
SEQUENCE:0
STATUS:CONFIRMED
SUMMARY:Blue Mountain Summit 2026
TRANSP:OPAQUE
X-ALT-DESC;FMTTYPE=text/html:<p><span style='font-size:14px\;'>The Blue Mou
 ntain Summit stands as the only conference curated specifically for EAM an
 d CMMS professionals in the life sciences community\, offering unparallele
 d networking and educational opportunities across the sector.</span></p>
BEGIN:VALARM
UID:61363835-3434-4539-b737-343362666165
ACTION:DISPLAY
DESCRIPTION:The Blue Mountain Summit stands as the only conference curated 
 specifically for EAM and CMMS professionals in the life sciences community
 \, offering unparalleled networking and educational opportunities across t
 he sector.
TRIGGER:-P1W
END:VALARM
END:VEVENT
END:VCALENDAR
